BEGIN:VCALENDAR
VERSION:2.0
PRODID:-//CSO Quebec International - ECPv6.15.20//NONSGML v1.0//EN
CALSCALE:GREGORIAN
METHOD:PUBLISH
X-WR-CALNAME:CSO Quebec International
X-ORIGINAL-URL:https://csoquebec.com
X-WR-CALDESC:Évènements pour CSO Quebec International
REFRESH-INTERVAL;VALUE=DURATION:PT1H
X-Robots-Tag:noindex
X-PUBLISHED-TTL:PT1H
BEGIN:VTIMEZONE
TZID:UTC
BEGIN:STANDARD
TZOFFSETFROM:+0000
TZOFFSETTO:+0000
TZNAME:UTC
DTSTART:20240101T000000
END:STANDARD
END:VTIMEZONE
BEGIN:VEVENT
DTSTART;TZID=UTC:20250716T080000
DTEND;TZID=UTC:20250718T170000
DTSTAMP:20260421T102832
CREATED:20250713T165534Z
LAST-MODIFIED:20250713T165534Z
UID:1609-1752652800-1752858000@csoquebec.com
SUMMARY:Leadership stratégique et gestion du changement : leviers de transformation durable au sein de l’administration publique
DESCRIPTION:SÉMINAIRE DE HAUT NIVEAU !  \n📣Annonce Officielle : Le cabinet CSO Québec International\, en partenariat La Primature du Burkina Faso\, a l’honneur d’annoncer la tenue d’une formation de haut niveau sur le thème : \n« Leadership stratégique et gestion du changement : leviers de transformation durable au sein de l’administration publique» \n📅 Dates : du 16 au 18 juillet 2025 \n📍 Lieu : Salle de conférences de la Primature\, Ouagadougou \n🎯 Public cible : Hauts cadres de la Primature et des structures rattachées \n  \n🔵 Objectifs de la formation \nCette session vise à : \n\nRenforcer les capacités des cadres supérieurs en leadership transformationnel ;\nDévelopper une vision stratégique partagée pour accompagner les grandes réformes de l’État ;\nOutiller les participants à conduire efficacement le changement organisationnel dans un contexte de complexité croissante ;\nPromouvoir une culture de résultats\, d’anticipation et d’agilité institutionnelle.\n\n  \n🧭 Contenu stratégique \nAu cours de ces trois journées intensives\, les participants exploreront : \n\nLes fondamentaux du leadership stratégique et inclusif ;\nLes modèles internationaux de gestion du changement (Kotter\, Lewin\, ADKAR) appliqués au contexte burkinabè ;\nLa gestion des résistances\, la mobilisation des parties prenantes\, et la dynamique d’équipe en période de transformation ;\nDes cas pratiques\, jeux de rôle et simulations basés sur des situations réelles issues de l’administration publique.\n\n  \n🛠️ Approche pédagogique \n\nAnimation par des experts nationaux et internationaux certifiés PMP® et en gouvernance publique ;\nMéthodes participatives : ateliers\, partages d’expérience\, matrices de diagnostic\, outils de planification ;\nSupports professionnels remis à chaque participant : guide\, outils d’aide à la décision\, fiches de capitalisation.\n\n🔒 Session exclusivement réservée aux cadres désignés par la Direction des ressources humaines de la Primature. \n  \n📧 info@csoquebec.com \n📞 Contact WhatsApp : +226 05 05 43 43 \n📞 Bureau : +226 25 65 99 12
URL:https://csoquebec.com/event/leadership-strategique-et-gestion-du-changement-leviers-de-transformation-durable-au-sein-de-ladministration-publique/
ORGANIZER;CN="CSO Quebec international":MAILTO:info@csoquebec.com
END:VEVENT
END:VCALENDAR